BEGIN:VCALENDAR
VERSION:2.0
PRODID:-//International Association for the Study of Pain (IASP) - ECPv6.15.17//NONSGML v1.0//EN
CALSCALE:GREGORIAN
METHOD:PUBLISH
X-WR-CALNAME:International Association for the Study of Pain (IASP)
X-ORIGINAL-URL:https://www.iasp-pain.org
X-WR-CALDESC:Events for International Association for the Study of Pain (IASP)
REFRESH-INTERVAL;VALUE=DURATION:PT1H
X-Robots-Tag:noindex
X-PUBLISHED-TTL:PT1H
BEGIN:VTIMEZONE
TZID:America/New_York
BEGIN:DAYLIGHT
TZOFFSETFROM:-0500
TZOFFSETTO:-0400
TZNAME:EDT
DTSTART:20250309T070000
END:DAYLIGHT
BEGIN:STANDARD
TZOFFSETFROM:-0400
TZOFFSETTO:-0500
TZNAME:EST
DTSTART:20251102T060000
END:STANDARD
BEGIN:DAYLIGHT
TZOFFSETFROM:-0500
TZOFFSETTO:-0400
TZNAME:EDT
DTSTART:20260308T070000
END:DAYLIGHT
BEGIN:STANDARD
TZOFFSETFROM:-0400
TZOFFSETTO:-0500
TZNAME:EST
DTSTART:20261101T060000
END:STANDARD
BEGIN:DAYLIGHT
TZOFFSETFROM:-0500
TZOFFSETTO:-0400
TZNAME:EDT
DTSTART:20270314T070000
END:DAYLIGHT
BEGIN:STANDARD
TZOFFSETFROM:-0400
TZOFFSETTO:-0500
TZNAME:EST
DTSTART:20271107T060000
END:STANDARD
END:VTIMEZONE
BEGIN:VEVENT
DTSTART;VALUE=DATE:20261026
DTEND;VALUE=DATE:20261031
DTSTAMP:20260420T185011
CREATED:20250325T185306Z
LAST-MODIFIED:20250613T142233Z
UID:163105-1792972800-1793404799@www.iasp-pain.org
SUMMARY:IASP 2026 World Congress on Pain
DESCRIPTION:IASP’s World Congress on Pain is the largest global gathering of pain professionals\, bringing together thousands of scientists\, clinicians\, and healthcare providers from around the world and across pain disciplines. Attendees will experience a world-class lineup of hundreds of international speakers with comprehensive sessions\, bringing you the latest pain research and treatment. Join your fellow pain professionals for: \n\nThousands of poster abstract presentations representing the best ongoing research in pain.\nMore than 100 international exhibitors showcasing the latest advancements.\nFive days full of topical workshops and plenary sessions presenting the cutting-edge of pain management\, research\, and relief.\n\nJoin us in beautiful Bangkok\, Thailand\, for the IASP 2026 World Congress on Pain\, 26 – 30 October. \nLearn More
URL:https://www.iasp-pain.org/event/iasp-2026-world-congress-on-pain/
CATEGORIES:General Assembly,IASP Events
ATTACH;FMTTYPE=image/png:https://www.iasp-pain.org/wp-content/uploads/2025/03/Event-Featured-Images.png
END:VEVENT
END:VCALENDAR