BEGIN:VCALENDAR
VERSION:2.0
PRODID:-//International Association for the Study of Pain (IASP) - ECPv6.15.17//NONSGML v1.0//EN
CALSCALE:GREGORIAN
METHOD:PUBLISH
X-WR-CALNAME:International Association for the Study of Pain (IASP)
X-ORIGINAL-URL:https://www.iasp-pain.org
X-WR-CALDESC:Events for International Association for the Study of Pain (IASP)
REFRESH-INTERVAL;VALUE=DURATION:PT1H
X-Robots-Tag:noindex
X-PUBLISHED-TTL:PT1H
BEGIN:VTIMEZONE
TZID:Europe/Athens
BEGIN:DAYLIGHT
TZOFFSETFROM:+0200
TZOFFSETTO:+0300
TZNAME:EEST
DTSTART:20250330T010000
END:DAYLIGHT
BEGIN:STANDARD
TZOFFSETFROM:+0300
TZOFFSETTO:+0200
TZNAME:EET
DTSTART:20251026T010000
END:STANDARD
BEGIN:DAYLIGHT
TZOFFSETFROM:+0200
TZOFFSETTO:+0300
TZNAME:EEST
DTSTART:20260329T010000
END:DAYLIGHT
BEGIN:STANDARD
TZOFFSETFROM:+0300
TZOFFSETTO:+0200
TZNAME:EET
DTSTART:20261025T010000
END:STANDARD
BEGIN:DAYLIGHT
TZOFFSETFROM:+0200
TZOFFSETTO:+0300
TZNAME:EEST
DTSTART:20270328T010000
END:DAYLIGHT
BEGIN:STANDARD
TZOFFSETFROM:+0300
TZOFFSETTO:+0200
TZNAME:EET
DTSTART:20271031T010000
END:STANDARD
END:VTIMEZONE
BEGIN:VTIMEZONE
TZID:Australia/Adelaide
BEGIN:STANDARD
TZOFFSETFROM:+1030
TZOFFSETTO:+0930
TZNAME:ACST
DTSTART:20250405T163000
END:STANDARD
BEGIN:DAYLIGHT
TZOFFSETFROM:+0930
TZOFFSETTO:+1030
TZNAME:ACDT
DTSTART:20251004T163000
END:DAYLIGHT
BEGIN:STANDARD
TZOFFSETFROM:+1030
TZOFFSETTO:+0930
TZNAME:ACST
DTSTART:20260404T163000
END:STANDARD
BEGIN:DAYLIGHT
TZOFFSETFROM:+0930
TZOFFSETTO:+1030
TZNAME:ACDT
DTSTART:20261003T163000
END:DAYLIGHT
BEGIN:STANDARD
TZOFFSETFROM:+1030
TZOFFSETTO:+0930
TZNAME:ACST
DTSTART:20270403T163000
END:STANDARD
BEGIN:DAYLIGHT
TZOFFSETFROM:+0930
TZOFFSETTO:+1030
TZNAME:ACDT
DTSTART:20271002T163000
END:DAYLIGHT
END:VTIMEZONE
BEGIN:VEVENT
DTSTART;VALUE=DATE:20260421
DTEND;VALUE=DATE:20260424
DTSTAMP:20260421T082143
CREATED:20250820T183155Z
LAST-MODIFIED:20251007T134101Z
UID:164080-1776729600-1776988799@www.iasp-pain.org
SUMMARY:59th Annual Scientific Meeting of the British Pain Society
DESCRIPTION:59th Annual Scientific Meeting of the British Pain Society\nNorth Yorkshire\, Harrogate\, England \nThe 2026 Scientific Programme will once again reflect the multidisciplinary nature of our specialty\, offering a diverse range of plenary lectures\, parallel workshops\, and interactive discussions designed to foster both scientific exchange and clinical dialogue. \nKey Deadlines – Save the Dates! \n\nParallel session submissions open: 10 September 2025\nParallel session submission deadline: 5 November 2025\nAbstract submissions open: 29 September 2025\nAbstract submission deadline: 7 January 2026\n\nLearn More
URL:https://www.iasp-pain.org/event/59th-annual-scientific-meeting-of-the-british-pain-society/
CATEGORIES:Pain-Related Meetings
ATTACH;FMTTYPE=image/png:https://www.iasp-pain.org/wp-content/uploads/2021/07/Fallback-Image-IASP-News.png
END:VEVENT
BEGIN:VEVENT
DTSTART;VALUE=DATE:20260419
DTEND;VALUE=DATE:20260423
DTSTAMP:20260421T082143
CREATED:20250529T124705Z
LAST-MODIFIED:20250709T141944Z
UID:163649-1776556800-1776902399@www.iasp-pain.org
SUMMARY:2026 Australian Pain Society 46th Annual Scientific Meeting (APS 2026)
DESCRIPTION:2026 Australian Pain Society 46th Annual Scientific Meeting (APS 2026)\nAdelaide Convention Centre\, South Australia \nThe Australian Pain Society’s (APS) Annual Scientific Meeting (ASM) is the only multidisciplinary conference in Australia offering insights into the complex nature of pain management from a variety of medical\, nursing\, research\, and allied health perspectives. \nAPS continues to align their conference theme with the IASP Global Year. \nThe Scientific Program Committee is thrilled to have procured two impressive international speakers; Professor Yves De Koninck\, CERVO Brain Research Centre\, Canada\, and Professor Annina Schmid\, Oxford University\, UK. They will be joined by an inspiring range of national speakers presenting a contemporary scientific program showcasing the breadth of pain management research\, theory\, and practice. \nAPS invites all those with an interest in pain management and education to attend APS 2026 in Adelaide\, a rich multi-cultural and naturally beautiful location. \nLearn More
URL:https://www.iasp-pain.org/event/2026-australian-pain-society-46th-annual-scientific-meeting-aps-2026/
ATTACH;FMTTYPE=image/png:https://www.iasp-pain.org/wp-content/uploads/2025/05/APS2026_1.png
END:VEVENT
END:VCALENDAR